BEGIN:VCALENDAR
VERSION:2.0
PRODID:-//eventon.com NONSGML v1.0//EN
CALSCALE:GREGORIAN
METHOD:PUBLISH
BEGIN:VEVENT
UID:69ea14a8cb24a
DTSTAMP:20260423T124632Z
DTSTART:20260422T140000Z
DTEND:20260422T153000Z
LOCATION:
SUMMARY:General Membership Meeting
DESCRIPTION:SAFE for Lake County General Membership Meeting When: April 22n
 d 9:00AM -10:30AM Dean &amp; Barbara White Community Center\,  6600 Broadwa
 y\,  Merrillville *All meetings are scheduled to be in person\,  but are su
 bject to change based on weather conditions. **If 6 or more school corporat
 ions are closed then we will move[..]\nhttps://safeforlakecounty.org/events
 /general-membership-meeting-17/
URL:https://safeforlakecounty.org/events/general-membership-meeting-17/
END:VEVENT
END:VCALENDAR