BEGIN:VCALENDAR
VERSION:2.0
PRODID:-//eventon.com NONSGML v1.0//EN
CALSCALE:GREGORIAN
METHOD:PUBLISH
BEGIN:VEVENT
UID:69ea14a8b01ba
DTSTAMP:20260423T124632Z
DTSTART:20260527T140000Z
DTEND:20260527T153000Z
LOCATION:
SUMMARY:General Membership Meeting
DESCRIPTION:SAFE for Lake County General Membership Meeting When: May 27th 
 9:00AM -10:30AM Dean &amp; Barbara White Community Center\,  6600 Broadway\
 ,  Merrillville *All meetings are scheduled to be in person\,  but are subj
 ect to change based on weather conditions. **If 6 or more school corporatio
 ns are closed then we will move[..]\nhttps://safeforlakecounty.org/events/g
 eneral-membership-meeting-18/
URL:https://safeforlakecounty.org/events/general-membership-meeting-18/
END:VEVENT
END:VCALENDAR