BEGIN:VCALENDAR
VERSION:2.0
PRODID:-//eventon.com NONSGML v1.0//EN
CALSCALE:GREGORIAN
METHOD:PUBLISH
BEGIN:VEVENT
UID:69ea14da8d68c
DTSTAMP:20260423T124722Z
DTSTART:20260624T140000Z
DTEND:20260624T153000Z
LOCATION:
SUMMARY:General Membership Meeting
DESCRIPTION:SAFE for Lake County General Membership Meeting When: June 24th
  9:00AM -10:30AM Dean &amp; Barbara White Community Center\,  6600 Broadway
 \,  Merrillville *All meetings are scheduled to be in person\,  but are sub
 ject to change based on weather conditions. **If 6 or more school corporati
 ons are closed then we will move[..]\nhttps://safeforlakecounty.org/events/
 general-membership-meeting-19/
URL:https://safeforlakecounty.org/events/general-membership-meeting-19/
END:VEVENT
END:VCALENDAR