BEGIN:VCALENDAR
VERSION:2.0
PRODID:-//eventon.com NONSGML v1.0//EN
CALSCALE:GREGORIAN
METHOD:PUBLISH
BEGIN:VEVENT
UID:69ea14da948c1
DTSTAMP:20260423T124722Z
DTSTART:20260507T230000Z
DTEND:20260508T010000Z
LOCATION:
SUMMARY:Promoting Youth Mental Health - Catch My Breath: Empowering Youth To Live Vape-Free
DESCRIPTION:Youth vaping remains a growing concern for families and communi
 ties. To help address this issue\,  the Crown Point Community Library invit
 es you to attend CATCH My Breath: Empowering Youth to Live Vape-Free on Thu
 rsday\,  May 7 at 6 p.m. The evening will begin with an educational present
 ation and conclude with[..]\nhttps://safeforlakecounty.org/events/promoting
 -youth-mental-health-catch-my-breath-empowering-youth-to-live-vape-free/
URL:https://safeforlakecounty.org/events/promoting-youth-mental-health-catch-my-breath-empowering-youth-to-live-vape-free/
END:VEVENT
END:VCALENDAR